Package: epialleleR Version: 1.16.0 Command: rm -rf epialleleR.buildbin-libdir && mkdir epialleleR.buildbin-libdir && /Users/biocbuild/BBS/utils/build-universal.sh epialleleR_1.16.0.tar.gz /Library/Frameworks/R.framework/Resources/bin/R epialleleR.buildbin-libdir StartedAt: 2025-04-22 00:44:17 -0400 (Tue, 22 Apr 2025) EndedAt: 2025-04-22 00:45:37 -0400 (Tue, 22 Apr 2025) EllapsedTime: 80.1 seconds RetCode: 0 Status: OK PackageFile: epialleleR_1.16.0.tgz PackageFileSize: 4.39 MiB