Package: epialleleR Version: 1.16.0 Command: /home/biocbuild/R/R/bin/R CMD build --keep-empty-dirs --no-resave-data epialleleR StartedAt: 2025-04-22 00:29:45 -0000 (Tue, 22 Apr 2025) EndedAt: 2025-04-22 00:32:18 -0000 (Tue, 22 Apr 2025) EllapsedTime: 153.0 seconds RetCode: 0 Status: OK PackageFile: epialleleR_1.16.0.tar.gz PackageFileSize: 3.517 MiB