Package: epialleleR Version: 1.16.0 Command: /Library/Frameworks/R.framework/Resources/bin/R CMD check --install=check:epialleleR.install-out.txt --library=/Library/Frameworks/R.framework/Resources/library --no-vignettes --timings epialleleR_1.16.0.tar.gz StartedAt: 2025-04-21 19:16:27 -0400 (Mon, 21 Apr 2025) EndedAt: 2025-04-21 19:17:21 -0400 (Mon, 21 Apr 2025) EllapsedTime: 53.6 seconds RetCode: 0 Status: OK CheckDir: epialleleR.Rcheck Warnings: 0