Package: epialleleR Version: 1.14.0 Command: rm -rf epialleleR.buildbin-libdir && mkdir epialleleR.buildbin-libdir && /Users/biocbuild/BBS/utils/build-universal.sh epialleleR_1.14.0.tar.gz /Library/Frameworks/R.framework/Resources/bin/R epialleleR.buildbin-libdir StartedAt: 2024-11-09 16:48:04 -0500 (Sat, 09 Nov 2024) EndedAt: 2024-11-09 16:48:24 -0500 (Sat, 09 Nov 2024) EllapsedTime: 20.3 seconds RetCode: 0 Status: OK PackageFile: epialleleR_1.14.0.tgz PackageFileSize: 4.347 MiB