Package: epialleleR Version: 1.16.0 Command: /Library/Frameworks/R.framework/Resources/bin/R CMD INSTALL epialleleR StartedAt: 2025-04-28 19:17:00 -0400 (Mon, 28 Apr 2025) EndedAt: 2025-04-28 19:17:21 -0400 (Mon, 28 Apr 2025) EllapsedTime: 20.4 seconds RetCode: 0 Status: OK