Package: epialleleR Version: 1.16.0 Command: /Library/Frameworks/R.framework/Resources/bin/R CMD check --install=check:epialleleR.install-out.txt --library=/Library/Frameworks/R.framework/Resources/library --no-vignettes --timings epialleleR_1.16.0.tar.gz StartedAt: 2025-05-02 19:10:12 -0400 (Fri, 02 May 2025) EndedAt: 2025-05-02 19:12:40 -0400 (Fri, 02 May 2025) EllapsedTime: 147.1 seconds RetCode: 0 Status: OK CheckDir: epialleleR.Rcheck Warnings: 0