Package: epialleleR Version: 1.16.0 Command: rm -rf epialleleR.buildbin-libdir && mkdir epialleleR.buildbin-libdir && /Users/biocbuild/BBS/utils/build-universal.sh epialleleR_1.16.0.tar.gz /Library/Frameworks/R.framework/Resources/bin/R epialleleR.buildbin-libdir StartedAt: 2025-05-03 15:31:40 -0400 (Sat, 03 May 2025) EndedAt: 2025-05-03 15:32:48 -0400 (Sat, 03 May 2025) EllapsedTime: 68.0 seconds RetCode: 0 Status: OK PackageFile: epialleleR_1.16.0.tgz PackageFileSize: 4.352 MiB