############################################################################## ############################################################################## ### ### Running command: ### ### rm -rf epialleleR.buildbin-libdir && mkdir epialleleR.buildbin-libdir && /Users/biocbuild/BBS/utils/build-universal.sh epialleleR_1.16.0.tar.gz /Library/Frameworks/R.framework/Resources/bin/R epialleleR.buildbin-libdir ### ############################################################################## ############################################################################## >>>>>>> >>>>>>> INSTALLATION WITH 'R CMD INSTALL --preclean --no-multiarch --library=epialleleR.buildbin-libdir epialleleR_1.16.0.tar.gz' >>>>>>> * installing *source* package ‘epialleleR’ ... ** this is package ‘epialleleR’ version ‘1.16.0’ ** using staged installation ** libs using C++ compiler: ‘Apple clang version 15.0.0 (clang-1500.0.40.1)’ using C++17 using SDK: ‘MacOSX11.3.sdk’ clang++ -arch arm64 -std=gnu++17 -I"/Library/Frameworks/R.framework/Resources/include" -DNDEBUG -D_FILE_OFFSET_BITS=64 -I'/Library/Frameworks/R.framework/Versions/4.5-arm64/Resources/library/Rcpp/include' -I'/Library/Frameworks/R.framework/Versions/4.5-arm64/Resources/library/BH/include' -I'/Library/Frameworks/R.framework/Versions/4.5-arm64/Resources/library/Rhtslib/include' -I/opt/R/arm64/include -fPIC -falign-functions=64 -Wall -g -O2 -c RcppExports.cpp -o RcppExports.o clang++ -arch arm64 -std=gnu++17 -I"/Library/Frameworks/R.framework/Resources/include" -DNDEBUG -D_FILE_OFFSET_BITS=64 -I'/Library/Frameworks/R.framework/Versions/4.5-arm64/Resources/library/Rcpp/include' -I'/Library/Frameworks/R.framework/Versions/4.5-arm64/Resources/library/BH/include' -I'/Library/Frameworks/R.framework/Versions/4.5-arm64/Resources/library/Rhtslib/include' -I/opt/R/arm64/include -fPIC -falign-functions=64 -Wall -g -O2 -c rcpp_call_methylation.cpp -o rcpp_call_methylation.o clang++ -arch arm64 -std=gnu++17 -I"/Library/Frameworks/R.framework/Resources/include" -DNDEBUG -D_FILE_OFFSET_BITS=64 -I'/Library/Frameworks/R.framework/Versions/4.5-arm64/Resources/library/Rcpp/include' -I'/Library/Frameworks/R.framework/Versions/4.5-arm64/Resources/library/BH/include' -I'/Library/Frameworks/R.framework/Versions/4.5-arm64/Resources/library/Rhtslib/include' -I/opt/R/arm64/include -fPIC -falign-functions=64 -Wall -g -O2 -c rcpp_check_bam.cpp -o rcpp_check_bam.o clang++ -arch arm64 -std=gnu++17 -I"/Library/Frameworks/R.framework/Resources/include" -DNDEBUG -D_FILE_OFFSET_BITS=64 -I'/Library/Frameworks/R.framework/Versions/4.5-arm64/Resources/library/Rcpp/include' -I'/Library/Frameworks/R.framework/Versions/4.5-arm64/Resources/library/BH/include' -I'/Library/Frameworks/R.framework/Versions/4.5-arm64/Resources/library/Rhtslib/include' -I/opt/R/arm64/include -fPIC -falign-functions=64 -Wall -g -O2 -c rcpp_cx_report.cpp -o rcpp_cx_report.o clang++ -arch arm64 -std=gnu++17 -I"/Library/Frameworks/R.framework/Resources/include" -DNDEBUG -D_FILE_OFFSET_BITS=64 -I'/Library/Frameworks/R.framework/Versions/4.5-arm64/Resources/library/Rcpp/include' -I'/Library/Frameworks/R.framework/Versions/4.5-arm64/Resources/library/BH/include' -I'/Library/Frameworks/R.framework/Versions/4.5-arm64/Resources/library/Rhtslib/include' -I/opt/R/arm64/include -fPIC -falign-functions=64 -Wall -g -O2 -c rcpp_extract_patterns.cpp -o rcpp_extract_patterns.o clang++ -arch arm64 -std=gnu++17 -I"/Library/Frameworks/R.framework/Resources/include" -DNDEBUG -D_FILE_OFFSET_BITS=64 -I'/Library/Frameworks/R.framework/Versions/4.5-arm64/Resources/library/Rcpp/include' -I'/Library/Frameworks/R.framework/Versions/4.5-arm64/Resources/library/BH/include' -I'/Library/Frameworks/R.framework/Versions/4.5-arm64/Resources/library/Rhtslib/include' -I/opt/R/arm64/include -fPIC -falign-functions=64 -Wall -g -O2 -c rcpp_fep.cpp -o rcpp_fep.o clang++ -arch arm64 -std=gnu++17 -I"/Library/Frameworks/R.framework/Resources/include" -DNDEBUG -D_FILE_OFFSET_BITS=64 -I'/Library/Frameworks/R.framework/Versions/4.5-arm64/Resources/library/Rcpp/include' -I'/Library/Frameworks/R.framework/Versions/4.5-arm64/Resources/library/BH/include' -I'/Library/Frameworks/R.framework/Versions/4.5-arm64/Resources/library/Rhtslib/include' -I/opt/R/arm64/include -fPIC -falign-functions=64 -Wall -g -O2 -c rcpp_get_base_freqs.cpp -o rcpp_get_base_freqs.o clang++ -arch arm64 -std=gnu++17 -I"/Library/Frameworks/R.framework/Resources/include" -DNDEBUG -D_FILE_OFFSET_BITS=64 -I'/Library/Frameworks/R.framework/Versions/4.5-arm64/Resources/library/Rcpp/include' -I'/Library/Frameworks/R.framework/Versions/4.5-arm64/Resources/library/BH/include' -I'/Library/Frameworks/R.framework/Versions/4.5-arm64/Resources/library/Rhtslib/include' -I/opt/R/arm64/include -fPIC -falign-functions=64 -Wall -g -O2 -c rcpp_get_xm_beta.cpp -o rcpp_get_xm_beta.o clang++ -arch arm64 -std=gnu++17 -I"/Library/Frameworks/R.framework/Resources/include" -DNDEBUG -D_FILE_OFFSET_BITS=64 -I'/Library/Frameworks/R.framework/Versions/4.5-arm64/Resources/library/Rcpp/include' -I'/Library/Frameworks/R.framework/Versions/4.5-arm64/Resources/library/BH/include' -I'/Library/Frameworks/R.framework/Versions/4.5-arm64/Resources/library/Rhtslib/include' -I/opt/R/arm64/include -fPIC -falign-functions=64 -Wall -g -O2 -c rcpp_match_target.cpp -o rcpp_match_target.o clang++ -arch arm64 -std=gnu++17 -I"/Library/Frameworks/R.framework/Resources/include" -DNDEBUG -D_FILE_OFFSET_BITS=64 -I'/Library/Frameworks/R.framework/Versions/4.5-arm64/Resources/library/Rcpp/include' -I'/Library/Frameworks/R.framework/Versions/4.5-arm64/Resources/library/BH/include' -I'/Library/Frameworks/R.framework/Versions/4.5-arm64/Resources/library/Rhtslib/include' -I/opt/R/arm64/include -fPIC -falign-functions=64 -Wall -g -O2 -c rcpp_mhl_report.cpp -o rcpp_mhl_report.o clang++ -arch arm64 -std=gnu++17 -I"/Library/Frameworks/R.framework/Resources/include" -DNDEBUG -D_FILE_OFFSET_BITS=64 -I'/Library/Frameworks/R.framework/Versions/4.5-arm64/Resources/library/Rcpp/include' -I'/Library/Frameworks/R.framework/Versions/4.5-arm64/Resources/library/BH/include' -I'/Library/Frameworks/R.framework/Versions/4.5-arm64/Resources/library/Rhtslib/include' -I/opt/R/arm64/include -fPIC -falign-functions=64 -Wall -g -O2 -c rcpp_read_bam.cpp -o rcpp_read_bam.o clang++ -arch arm64 -std=gnu++17 -I"/Library/Frameworks/R.framework/Resources/include" -DNDEBUG -D_FILE_OFFSET_BITS=64 -I'/Library/Frameworks/R.framework/Versions/4.5-arm64/Resources/library/Rcpp/include' -I'/Library/Frameworks/R.framework/Versions/4.5-arm64/Resources/library/BH/include' -I'/Library/Frameworks/R.framework/Versions/4.5-arm64/Resources/library/Rhtslib/include' -I/opt/R/arm64/include -fPIC -falign-functions=64 -Wall -g -O2 -c rcpp_read_genome.cpp -o rcpp_read_genome.o clang++ -arch arm64 -std=gnu++17 -I"/Library/Frameworks/R.framework/Resources/include" -DNDEBUG -D_FILE_OFFSET_BITS=64 -I'/Library/Frameworks/R.framework/Versions/4.5-arm64/Resources/library/Rcpp/include' -I'/Library/Frameworks/R.framework/Versions/4.5-arm64/Resources/library/BH/include' -I'/Library/Frameworks/R.framework/Versions/4.5-arm64/Resources/library/Rhtslib/include' -I/opt/R/arm64/include -fPIC -falign-functions=64 -Wall -g -O2 -c rcpp_simulate_bam.cpp -o rcpp_simulate_bam.o clang++ -arch arm64 -std=gnu++17 -I"/Library/Frameworks/R.framework/Resources/include" -DNDEBUG -D_FILE_OFFSET_BITS=64 -I'/Library/Frameworks/R.framework/Versions/4.5-arm64/Resources/library/Rcpp/include' -I'/Library/Frameworks/R.framework/Versions/4.5-arm64/Resources/library/BH/include' -I'/Library/Frameworks/R.framework/Versions/4.5-arm64/Resources/library/Rhtslib/include' -I/opt/R/arm64/include -fPIC -falign-functions=64 -Wall -g -O2 -c rcpp_threshold_reads.cpp -o rcpp_threshold_reads.o clang++ -arch arm64 -std=gnu++17 -dynamiclib -Wl,-headerpad_max_install_names -undefined dynamic_lookup -L/Library/Frameworks/R.framework/Resources/lib -L/opt/R/arm64/lib -o epialleleR.so RcppExports.o rcpp_call_methylation.o rcpp_check_bam.o rcpp_cx_report.o rcpp_extract_patterns.o rcpp_fep.o rcpp_get_base_freqs.o rcpp_get_xm_beta.o rcpp_match_target.o rcpp_mhl_report.o rcpp_read_bam.o rcpp_read_genome.o rcpp_simulate_bam.o rcpp_threshold_reads.o /Library/Frameworks/R.framework/Versions/4.5-arm64/Resources/library/Rhtslib/usrlib/libhts.a -lcurl -lbz2 -llzma -lz -F/Library/Frameworks/R.framework/.. -framework R installing to /Users/biocbuild/bbs-3.21-bioc/meat/epialleleR.buildbin-libdir/00LOCK-epialleleR/00new/epialleleR/libs ** R ** inst ** byte-compile and prepare package for lazy loading ** help *** installing help indices ** building package indices ** installing vignettes ** testing if installed package can be loaded from temporary location ** checking absolute paths in shared objects and dynamic libraries ** testing if installed package can be loaded from final location ** testing if installed package keeps a record of temporary installation path * DONE (epialleleR) >>>>>>> >>>>>>> FIXING PATHS TO DYNAMIC LIBRARIES FOR epialleleR.buildbin-libdir/epialleleR/libs/epialleleR.so >>>>>>> >>>>>>> Paths before fix: epialleleR.buildbin-libdir/epialleleR/libs/epialleleR.so: epialleleR.so (compatibility version 0.0.0, current version 0.0.0) /usr/lib/libcurl.4.dylib (compatibility version 7.0.0, current version 9.0.0) /usr/lib/libbz2.1.0.dylib (compatibility version 1.0.0, current version 1.0.5) /usr/lib/libz.1.dylib (compatibility version 1.0.0, current version 1.2.11) /Library/Frameworks/R.framework/Versions/4.5-arm64/Resources/lib/libR.dylib (compatibility version 4.5.0, current version 4.5.0) /usr/lib/libc++.1.dylib (compatibility version 1.0.0, current version 905.6.0) /usr/lib/libSystem.B.dylib (compatibility version 1.0.0, current version 1292.100.5) >>>>>>> Fix with install_name_tool: install_name_tool -change "/usr/local/lib/libgcc_s.1.1.dylib" "/Library/Frameworks/R.framework/Versions/4.5-arm64/Resources/lib/libgcc_s.1.1.dylib" "epialleleR.buildbin-libdir/epialleleR/libs/epialleleR.so" install_name_tool -change "/usr/local/lib/libgfortran.5.dylib" "/Library/Frameworks/R.framework/Versions/4.5-arm64/Resources/lib/libgfortran.5.dylib" "epialleleR.buildbin-libdir/epialleleR/libs/epialleleR.so" install_name_tool -change "/usr/local/lib/libquadmath.0.dylib" "/Library/Frameworks/R.framework/Versions/4.5-arm64/Resources/lib/libquadmath.0.dylib" "epialleleR.buildbin-libdir/epialleleR/libs/epialleleR.so" >>>>>>> Paths after fix: epialleleR.buildbin-libdir/epialleleR/libs/epialleleR.so: epialleleR.so (compatibility version 0.0.0, current version 0.0.0) /usr/lib/libcurl.4.dylib (compatibility version 7.0.0, current version 9.0.0) /usr/lib/libbz2.1.0.dylib (compatibility version 1.0.0, current version 1.0.5) /usr/lib/libz.1.dylib (compatibility version 1.0.0, current version 1.2.11) /Library/Frameworks/R.framework/Versions/4.5-arm64/Resources/lib/libR.dylib (compatibility version 4.5.0, current version 4.5.0) /usr/lib/libc++.1.dylib (compatibility version 1.0.0, current version 905.6.0) /usr/lib/libSystem.B.dylib (compatibility version 1.0.0, current version 1292.100.5) chown: epialleleR.buildbin-libdir/epialleleR/CITATION: Operation not permitted chown: epialleleR.buildbin-libdir/epialleleR/extdata/amplicon.vcf.gz.tbi: Operation not permitted chown: epialleleR.buildbin-libdir/epialleleR/extdata/test/dragen-pe-unsort-xg-xm.bam: Operation not permitted chown: epialleleR.buildbin-libdir/epialleleR/extdata/test/bwameth-pe-namesort-yd.bam: Operation not permitted chown: epialleleR.buildbin-libdir/epialleleR/extdata/test/bsmap-pe-unsort-zs.bam: Operation not permitted chown: epialleleR.buildbin-libdir/epialleleR/extdata/test/dragen-se-unsort-xg.bam: Operation not permitted chown: epialleleR.buildbin-libdir/epialleleR/extdata/test/bsmap-pe-namesort-zs.bam: Operation not permitted chown: epialleleR.buildbin-libdir/epialleleR/extdata/test/dragen-pe-unsort-xg.bam: Operation not permitted chown: epialleleR.buildbin-libdir/epialleleR/extdata/test/bsmap-se-unsort-zs.bam: Operation not permitted chown: epialleleR.buildbin-libdir/epialleleR/extdata/test/empty.bam: Operation not permitted chown: epialleleR.buildbin-libdir/epialleleR/extdata/test/reference.fasta.gz.gzi: Operation not permitted chown: epialleleR.buildbin-libdir/epialleleR/extdata/test/dragen-se-unsort-xg-xm.bam: Operation not permitted chown: epialleleR.buildbin-libdir/epialleleR/extdata/test/dragen-se.CX_report.txt.gz: Operation not permitted chown: epialleleR.buildbin-libdir/epialleleR/extdata/test/reference.fasta.gz.fai: Operation not permitted chown: epialleleR.buildbin-libdir/epialleleR/extdata/test/bwameth-pe-unsort-yd.bam: Operation not permitted chown: epialleleR.buildbin-libdir/epialleleR/extdata/test/reference.fasta.gz: Operation not permitted chown: epialleleR.buildbin-libdir/epialleleR/extdata/test/dragen-pe-namesort-xg.bam: Operation not permitted chown: epialleleR.buildbin-libdir/epialleleR/extdata/test/bwameth-se-unsort.bam: Operation not permitted chown: epialleleR.buildbin-libdir/epialleleR/extdata/test/dragen-pe.CX_report.txt.gz: Operation not permitted chown: epialleleR.buildbin-libdir/epialleleR/extdata/test/bwameth-se-unsort-yd.bam: Operation not permitted chown: epialleleR.buildbin-libdir/epialleleR/extdata/test/dragen-pe-namesort-xg-xm.bam: Operation not permitted chown: epialleleR.buildbin-libdir/epialleleR/extdata/test: Operation not permitted chown: epialleleR.buildbin-libdir/epialleleR/extdata/amplicon.vcf.gz: Operation not permitted chown: epialleleR.buildbin-libdir/epialleleR/extdata/amplicon010meth.bam: Operation not permitted chown: epialleleR.buildbin-libdir/epialleleR/extdata/amplicon000meth.bam: Operation not permitted chown: epialleleR.buildbin-libdir/epialleleR/extdata/capture.bed: Operation not permitted chown: epialleleR.buildbin-libdir/epialleleR/extdata/amplicon.bed: Operation not permitted chown: epialleleR.buildbin-libdir/epialleleR/extdata/amplicon100meth.bam: Operation not permitted chown: epialleleR.buildbin-libdir/epialleleR/extdata/capture.vcf.gz: Operation not permitted chown: epialleleR.buildbin-libdir/epialleleR/extdata/capture.bam: Operation not permitted chown: epialleleR.buildbin-libdir/epialleleR/extdata/capture.vcf.gz.tbi: Operation not permitted chown: epialleleR.buildbin-libdir/epialleleR/extdata: Operation not permitted chown: epialleleR.buildbin-libdir/epialleleR/R/epialleleR: Operation not permitted chown: epialleleR.buildbin-libdir/epialleleR/R/epialleleR.rdb: Operation not permitted chown: epialleleR.buildbin-libdir/epialleleR/R/epialleleR.rdx: Operation not permitted chown: epialleleR.buildbin-libdir/epialleleR/R: Operation not permitted chown: epialleleR.buildbin-libdir/epialleleR/unitTests/test_internals.R: Operation not permitted chown: epialleleR.buildbin-libdir/epialleleR/unitTests/test_callMethylation.R: Operation not permitted chown: epialleleR.buildbin-libdir/epialleleR/unitTests/test_generateMhlReport.R: Operation not permitted chown: epialleleR.buildbin-libdir/epialleleR/unitTests/test_preprocessGenome.R: Operation not permitted chown: epialleleR.buildbin-libdir/epialleleR/unitTests/test_generateCytosineReport.R: Operation not permitted chown: epialleleR.buildbin-libdir/epialleleR/unitTests/test_plotPatterns.R: Operation not permitted chown: epialleleR.buildbin-libdir/epialleleR/unitTests/test_generateBedEcdf.R: Operation not permitted chown: epialleleR.buildbin-libdir/epialleleR/unitTests/test_generateBedReport.R: Operation not permitted chown: epialleleR.buildbin-libdir/epialleleR/unitTests/test_simulateBam.R: Operation not permitted chown: epialleleR.buildbin-libdir/epialleleR/unitTests/test_extractPatterns.R: Operation not permitted chown: epialleleR.buildbin-libdir/epialleleR/unitTests/test_preprocessBam.R: Operation not permitted chown: epialleleR.buildbin-libdir/epialleleR/unitTests/test_generateVcfReport.R: Operation not permitted chown: epialleleR.buildbin-libdir/epialleleR/unitTests: Operation not permitted chown: epialleleR.buildbin-libdir/epialleleR/Meta/vignette.rds: Operation not permitted chown: epialleleR.buildbin-libdir/epialleleR/Meta/links.rds: Operation not permitted chown: epialleleR.buildbin-libdir/epialleleR/Meta/features.rds: Operation not permitted chown: epialleleR.buildbin-libdir/epialleleR/Meta/nsInfo.rds: Operation not permitted chown: epialleleR.buildbin-libdir/epialleleR/Meta/package.rds: Operation not permitted chown: epialleleR.buildbin-libdir/epialleleR/Meta/hsearch.rds: Operation not permitted chown: epialleleR.buildbin-libdir/epialleleR/Meta/Rd.rds: Operation not permitted chown: epialleleR.buildbin-libdir/epialleleR/Meta: Operation not permitted chown: epialleleR.buildbin-libdir/epialleleR/NAMESPACE: Operation not permitted chown: epialleleR.buildbin-libdir/epialleleR/html/R.css: Operation not permitted chown: epialleleR.buildbin-libdir/epialleleR/html/00Index.html: Operation not permitted chown: epialleleR.buildbin-libdir/epialleleR/html: Operation not permitted chown: epialleleR.buildbin-libdir/epialleleR/libs/epialleleR.so: Operation not permitted chown: epialleleR.buildbin-libdir/epialleleR/libs: Operation not permitted chown: epialleleR.buildbin-libdir/epialleleR/DESCRIPTION: Operation not permitted chown: epialleleR.buildbin-libdir/epialleleR/NEWS: Operation not permitted chown: epialleleR.buildbin-libdir/epialleleR/INDEX: Operation not permitted chown: epialleleR.buildbin-libdir/epialleleR/doc/values.html: Operation not permitted chown: epialleleR.buildbin-libdir/epialleleR/doc/index.html: Operation not permitted chown: epialleleR.buildbin-libdir/epialleleR/doc/values.Rmd: Operation not permitted chown: epialleleR.buildbin-libdir/epialleleR/doc/values.R: Operation not permitted chown: epialleleR.buildbin-libdir/epialleleR/doc/epialleleR.Rmd: Operation not permitted chown: epialleleR.buildbin-libdir/epialleleR/doc/epialleleR.html: Operation not permitted chown: epialleleR.buildbin-libdir/epialleleR/doc/epialleleR.R: Operation not permitted chown: epialleleR.buildbin-libdir/epialleleR/doc: Operation not permitted chown: epialleleR.buildbin-libdir/epialleleR/help/AnIndex: Operation not permitted chown: epialleleR.buildbin-libdir/epialleleR/help/aliases.rds: Operation not permitted chown: epialleleR.buildbin-libdir/epialleleR/help/paths.rds: Operation not permitted chown: epialleleR.buildbin-libdir/epialleleR/help/epialleleR.rdb: Operation not permitted chown: epialleleR.buildbin-libdir/epialleleR/help/epialleleR.rdx: Operation not permitted chown: epialleleR.buildbin-libdir/epialleleR/help: Operation not permitted chown: epialleleR.buildbin-libdir/epialleleR: Operation not permitted