Package: epiNEM Version: 1.32.0 Command: /Library/Frameworks/R.framework/Resources/bin/R CMD INSTALL epiNEM StartedAt: 2025-05-01 15:28:05 -0400 (Thu, 01 May 2025) EndedAt: 2025-05-01 15:28:44 -0400 (Thu, 01 May 2025) EllapsedTime: 39.1 seconds RetCode: 0 Status: OK