Package: epiNEM Version: 1.32.0 Command: /Library/Frameworks/R.framework/Resources/bin/R CMD build --keep-empty-dirs --no-resave-data epiNEM StartedAt: 2025-05-05 18:47:11 -0400 (Mon, 05 May 2025) EndedAt: 2025-05-05 18:49:08 -0400 (Mon, 05 May 2025) EllapsedTime: 116.6 seconds RetCode: 0 Status: OK PackageFile: epiNEM_1.32.0.tar.gz PackageFileSize: 2.404 MiB