Package: ensembldb Version: 2.30.0 Command: /home/biocbuild/R/R/bin/R CMD INSTALL ensembldb StartedAt: 2025-01-30 20:25:22 -0000 (Thu, 30 Jan 2025) EndedAt: 2025-01-30 20:26:14 -0000 (Thu, 30 Jan 2025) EllapsedTime: 52.2 seconds RetCode: 0 Status: OK