Package: ensembldb Version: 2.30.0 Command: /home/biocbuild/R/R/bin/R CMD build --keep-empty-dirs --no-resave-data ensembldb StartedAt: 2025-01-30 23:24:48 -0000 (Thu, 30 Jan 2025) EndedAt: 2025-01-30 23:27:24 -0000 (Thu, 30 Jan 2025) EllapsedTime: 156.0 seconds RetCode: 0 Status: OK PackageFile: ensembldb_2.30.0.tar.gz PackageFileSize: 3.484 MiB