Package: ensembldb Version: 2.32.0 Command: /home/biocbuild/bbs-3.21-bioc/R/bin/R CMD INSTALL ensembldb StartedAt: 2025-10-15 15:38:17 -0400 (Wed, 15 Oct 2025) EndedAt: 2025-10-15 15:38:58 -0400 (Wed, 15 Oct 2025) EllapsedTime: 40.9 seconds RetCode: 0 Status: OK