Package: ensembldb Version: 2.32.0 Command: /home/biocbuild/bbs-3.21-bioc/R/bin/R CMD build --keep-empty-dirs --no-resave-data ensembldb StartedAt: 2025-10-15 17:23:13 -0400 (Wed, 15 Oct 2025) EndedAt: 2025-10-15 17:25:05 -0400 (Wed, 15 Oct 2025) EllapsedTime: 112.2 seconds RetCode: 0 Status: OK PackageFile: ensembldb_2.32.0.tar.gz PackageFileSize: 3.373 MiB