Package: ensembldb Version: 2.32.0 Command: /Library/Frameworks/R.framework/Resources/bin/R CMD INSTALL ensembldb StartedAt: 2025-05-08 17:07:32 -0400 (Thu, 08 May 2025) EndedAt: 2025-05-08 17:08:19 -0400 (Thu, 08 May 2025) EllapsedTime: 47.4 seconds RetCode: 0 Status: OK