Package: enrichplot Version: 1.26.2 Command: /home/biocbuild/bbs-3.20-bioc/R/bin/R CMD check --install=check:enrichplot.install-out.txt --library=/home/biocbuild/bbs-3.20-bioc/R/site-library --timings enrichplot_1.26.2.tar.gz StartedAt: 2024-11-20 02:25:17 -0500 (Wed, 20 Nov 2024) EndedAt: 2024-11-20 02:28:07 -0500 (Wed, 20 Nov 2024) EllapsedTime: 170.2 seconds RetCode: 0 Status: WARNINGS CheckDir: enrichplot.Rcheck Warnings: 1