Package: enrichplot Version: 1.26.6 Command: /home/biocbuild/R/R/bin/R CMD check --install=check:enrichplot.install-out.txt --library=/home/biocbuild/R/R/site-library --no-vignettes --timings enrichplot_1.26.6.tar.gz StartedAt: 2025-01-31 05:59:13 -0000 (Fri, 31 Jan 2025) EndedAt: 2025-01-31 06:02:40 -0000 (Fri, 31 Jan 2025) EllapsedTime: 207.1 seconds RetCode: 0 Status: WARNINGS CheckDir: enrichplot.Rcheck Warnings: 1