Package: enrichplot Version: 1.26.6 Command: chmod a+r enrichplot -R && F:\biocbuild\bbs-3.20-bioc\R\bin\R.exe CMD build --keep-empty-dirs --no-resave-data enrichplot StartedAt: 2025-02-03 18:51:43 -0500 (Mon, 03 Feb 2025) EndedAt: 2025-02-03 18:52:19 -0500 (Mon, 03 Feb 2025) EllapsedTime: 35.7 seconds RetCode: 0 Status: OK PackageFile: enrichplot_1.26.6.tar.gz PackageFileSize: 98.71 KiB