Package: enrichplot Version: 1.26.6 Command: /home/biocbuild/bbs-3.20-bioc/R/bin/R CMD INSTALL enrichplot StartedAt: 2025-02-03 15:51:03 -0500 (Mon, 03 Feb 2025) EndedAt: 2025-02-03 15:51:26 -0500 (Mon, 03 Feb 2025) EllapsedTime: 22.7 seconds RetCode: 0 Status: OK