Package: enrichplot Version: 1.26.6 Command: /home/biocbuild/bbs-3.20-bioc/R/bin/R CMD check --install=check:enrichplot.install-out.txt --library=/home/biocbuild/bbs-3.20-bioc/R/site-library --timings enrichplot_1.26.6.tar.gz StartedAt: 2025-02-03 22:06:01 -0500 (Mon, 03 Feb 2025) EndedAt: 2025-02-03 22:08:41 -0500 (Mon, 03 Feb 2025) EllapsedTime: 160.1 seconds RetCode: 0 Status: WARNINGS CheckDir: enrichplot.Rcheck Warnings: 1