Package: enrichplot Version: 1.26.6 Command: /home/biocbuild/bbs-3.20-bioc/R/bin/R CMD build --keep-empty-dirs --no-resave-data --md5 enrichplot StartedAt: 2025-02-10 17:11:26 -0500 (Mon, 10 Feb 2025) EndedAt: 2025-02-10 17:11:48 -0500 (Mon, 10 Feb 2025) EllapsedTime: 22.0 seconds RetCode: 0 Status: OK PackageFile: enrichplot_1.26.6.tar.gz PackageFileSize: 100.5 KiB