Package: enrichplot Version: 1.28.4 Command: /home/biocbuild/bbs-3.21-bioc/R/bin/R CMD INSTALL enrichplot StartedAt: 2025-10-08 15:48:22 -0400 (Wed, 08 Oct 2025) EndedAt: 2025-10-08 15:48:46 -0400 (Wed, 08 Oct 2025) EllapsedTime: 23.2 seconds RetCode: 0 Status: OK