Package: enrichplot Version: 1.28.4 Command: /home/biocbuild/bbs-3.21-bioc/R/bin/R CMD build --keep-empty-dirs --no-resave-data enrichplot StartedAt: 2025-10-08 17:23:09 -0400 (Wed, 08 Oct 2025) EndedAt: 2025-10-08 17:23:37 -0400 (Wed, 08 Oct 2025) EllapsedTime: 28.1 seconds RetCode: 0 Status: OK PackageFile: enrichplot_1.28.4.tar.gz PackageFileSize: 96.53 KiB