Package: enrichplot Version: 1.26.6 Command: /Library/Frameworks/R.framework/Resources/bin/R CMD INSTALL enrichplot StartedAt: 2025-01-30 16:14:27 -0500 (Thu, 30 Jan 2025) EndedAt: 2025-01-30 16:15:19 -0500 (Thu, 30 Jan 2025) EllapsedTime: 52.5 seconds RetCode: 0 Status: OK