Package: enrichplot Version: 1.26.6 Command: rm -rf enrichplot.buildbin-libdir && mkdir enrichplot.buildbin-libdir && /Users/biocbuild/BBS/utils/build-universal.sh enrichplot_1.26.6.tar.gz /Library/Frameworks/R.framework/Resources/bin/R enrichplot.buildbin-libdir StartedAt: 2025-01-31 12:45:02 -0500 (Fri, 31 Jan 2025) EndedAt: 2025-01-31 12:45:56 -0500 (Fri, 31 Jan 2025) EllapsedTime: 54.3 seconds RetCode: 0 Status: OK PackageFile: enrichplot_1.26.6.tgz PackageFileSize: 301.5 KiB