Package: enrichplot Version: 1.26.2 Command: rm -rf enrichplot.buildbin-libdir && mkdir enrichplot.buildbin-libdir && /Users/biocbuild/BBS/utils/build-universal.sh enrichplot_1.26.2.tar.gz /Library/Frameworks/R.framework/Resources/bin/R enrichplot.buildbin-libdir StartedAt: 2024-11-20 04:25:27 -0500 (Wed, 20 Nov 2024) EndedAt: 2024-11-20 04:26:02 -0500 (Wed, 20 Nov 2024) EllapsedTime: 34.5 seconds RetCode: 0 Status: OK PackageFile: enrichplot_1.26.2.tgz PackageFileSize: 300.1 KiB