Package: enrichplot Version: 1.28.0 Command: /home/biocbuild/R/R/bin/R CMD build --keep-empty-dirs --no-resave-data enrichplot StartedAt: 2025-04-22 00:28:31 -0000 (Tue, 22 Apr 2025) EndedAt: 2025-04-22 00:29:03 -0000 (Tue, 22 Apr 2025) EllapsedTime: 32.0 seconds RetCode: 0 Status: OK PackageFile: enrichplot_1.28.0.tar.gz PackageFileSize: 97.79 KiB