Package: enrichplot Version: 1.26.2 Command: /Library/Frameworks/R.framework/Resources/bin/R CMD INSTALL enrichplot StartedAt: 2024-11-08 15:38:25 -0500 (Fri, 08 Nov 2024) EndedAt: 2024-11-08 15:38:34 -0500 (Fri, 08 Nov 2024) EllapsedTime: 8.6 seconds RetCode: 0 Status: OK