Package: enrichplot Version: 1.26.2 Command: /Library/Frameworks/R.framework/Resources/bin/R CMD check --install=check:enrichplot.install-out.txt --library=/Library/Frameworks/R.framework/Resources/library --no-vignettes --timings enrichplot_1.26.2.tar.gz StartedAt: 2024-11-09 01:39:35 -0500 (Sat, 09 Nov 2024) EndedAt: 2024-11-09 01:44:18 -0500 (Sat, 09 Nov 2024) EllapsedTime: 282.8 seconds RetCode: 0 Status: WARNINGS CheckDir: enrichplot.Rcheck Warnings: 1