Package: enrichplot Version: 1.26.6 Command: /Library/Frameworks/R.framework/Resources/bin/R CMD build --keep-empty-dirs --no-resave-data enrichplot StartedAt: 2025-02-03 23:09:00 -0500 (Mon, 03 Feb 2025) EndedAt: 2025-02-03 23:09:31 -0500 (Mon, 03 Feb 2025) EllapsedTime: 30.7 seconds RetCode: 0 Status: OK PackageFile: enrichplot_1.26.6.tar.gz PackageFileSize: 98.64 KiB