Package: enrichViewNet Version: 1.6.2 Command: /home/biocbuild/bbs-3.21-bioc/R/bin/R CMD INSTALL enrichViewNet StartedAt: 2025-10-15 15:48:04 -0400 (Wed, 15 Oct 2025) EndedAt: 2025-10-15 15:48:30 -0400 (Wed, 15 Oct 2025) EllapsedTime: 26.0 seconds RetCode: 0 Status: OK