Package: enrichViewNet Version: 1.6.2 Command: /home/biocbuild/bbs-3.21-bioc/R/bin/R CMD build --keep-empty-dirs --no-resave-data enrichViewNet StartedAt: 2025-10-15 17:22:53 -0400 (Wed, 15 Oct 2025) EndedAt: 2025-10-15 17:23:51 -0400 (Wed, 15 Oct 2025) EllapsedTime: 58.1 seconds RetCode: 0 Status: OK PackageFile: enrichViewNet_1.6.2.tar.gz PackageFileSize: 4.258 MiB