Package: enrichViewNet Version: 1.6.0 Command: /Library/Frameworks/R.framework/Resources/bin/R CMD INSTALL enrichViewNet StartedAt: 2025-05-15 16:37:14 -0400 (Thu, 15 May 2025) EndedAt: 2025-05-15 16:38:06 -0400 (Thu, 15 May 2025) EllapsedTime: 51.4 seconds RetCode: 0 Status: OK