Package: enrichViewNet Version: 1.6.0 Command: /Library/Frameworks/R.framework/Resources/bin/R CMD check --install=check:enrichViewNet.install-out.txt --library=/Library/Frameworks/R.framework/Resources/library --no-vignettes --timings enrichViewNet_1.6.0.tar.gz StartedAt: 2025-05-16 03:13:25 -0400 (Fri, 16 May 2025) EndedAt: 2025-05-16 03:19:38 -0400 (Fri, 16 May 2025) EllapsedTime: 372.9 seconds RetCode: 0 Status: OK CheckDir: enrichViewNet.Rcheck Warnings: 0