Package: enrichViewNet Version: 1.6.0 Command: rm -rf enrichViewNet.buildbin-libdir && mkdir enrichViewNet.buildbin-libdir && /Users/biocbuild/BBS/utils/build-universal.sh enrichViewNet_1.6.0.tar.gz /Library/Frameworks/R.framework/Resources/bin/R enrichViewNet.buildbin-libdir StartedAt: 2025-05-16 12:36:42 -0400 (Fri, 16 May 2025) EndedAt: 2025-05-16 12:37:36 -0400 (Fri, 16 May 2025) EllapsedTime: 54.0 seconds RetCode: 0 Status: OK PackageFile: enrichViewNet_1.6.0.tgz PackageFileSize: 3.484 MiB