Package: enrichViewNet Version: 1.6.0 Command: /Library/Frameworks/R.framework/Resources/bin/R CMD build --keep-empty-dirs --no-resave-data enrichViewNet StartedAt: 2025-04-21 16:42:42 -0400 (Mon, 21 Apr 2025) EndedAt: 2025-04-21 16:43:44 -0400 (Mon, 21 Apr 2025) EllapsedTime: 61.8 seconds RetCode: 0 Status: OK PackageFile: enrichViewNet_1.6.0.tar.gz PackageFileSize: 4.38 MiB