Package: enrichViewNet Version: 1.6.0 Command: /home/biocbuild/R/R/bin/R CMD INSTALL enrichViewNet StartedAt: 2025-05-15 21:06:09 -0000 (Thu, 15 May 2025) EndedAt: 2025-05-15 21:06:43 -0000 (Thu, 15 May 2025) EllapsedTime: 34.3 seconds RetCode: 0 Status: OK