Package: enrichViewNet Version: 1.6.0 Command: /Library/Frameworks/R.framework/Resources/bin/R CMD INSTALL enrichViewNet StartedAt: 2025-04-21 15:24:14 -0400 (Mon, 21 Apr 2025) EndedAt: 2025-04-21 15:24:24 -0400 (Mon, 21 Apr 2025) EllapsedTime: 10.4 seconds RetCode: 0 Status: OK