Package: enrichViewNet Version: 1.6.0 Command: /Library/Frameworks/R.framework/Resources/bin/R CMD check --install=check:enrichViewNet.install-out.txt --library=/Library/Frameworks/R.framework/Resources/library --no-vignettes --timings enrichViewNet_1.6.0.tar.gz StartedAt: 2025-04-21 19:16:14 -0400 (Mon, 21 Apr 2025) EndedAt: 2025-04-21 19:17:42 -0400 (Mon, 21 Apr 2025) EllapsedTime: 88.0 seconds RetCode: 0 Status: OK CheckDir: enrichViewNet.Rcheck Warnings: 0