Package: enrichViewNet Version: 1.6.0 Command: /Library/Frameworks/R.framework/Resources/bin/R CMD build --keep-empty-dirs --no-resave-data enrichViewNet StartedAt: 2025-04-21 16:16:07 -0400 (Mon, 21 Apr 2025) EndedAt: 2025-04-21 16:16:34 -0400 (Mon, 21 Apr 2025) EllapsedTime: 27.3 seconds RetCode: 0 Status: OK PackageFile: enrichViewNet_1.6.0.tar.gz PackageFileSize: 4.382 MiB