Package: enrichViewNet Version: 1.6.0 Command: rm -rf enrichViewNet.buildbin-libdir && mkdir enrichViewNet.buildbin-libdir && /Users/biocbuild/BBS/utils/build-universal.sh enrichViewNet_1.6.0.tar.gz /Library/Frameworks/R.framework/Resources/bin/R enrichViewNet.buildbin-libdir StartedAt: 2025-04-21 22:34:10 -0400 (Mon, 21 Apr 2025) EndedAt: 2025-04-21 22:34:21 -0400 (Mon, 21 Apr 2025) EllapsedTime: 11.2 seconds RetCode: 0 Status: OK PackageFile: enrichViewNet_1.6.0.tgz PackageFileSize: 3.488 MiB