Package: enrichViewNet Version: 1.4.0 Command: rm -rf enrichViewNet.buildbin-libdir && mkdir enrichViewNet.buildbin-libdir && /Users/biocbuild/BBS/utils/build-universal.sh enrichViewNet_1.4.0.tar.gz /Library/Frameworks/R.framework/Resources/bin/R enrichViewNet.buildbin-libdir StartedAt: 2025-02-01 14:48:13 -0500 (Sat, 01 Feb 2025) EndedAt: 2025-02-01 14:48:45 -0500 (Sat, 01 Feb 2025) EllapsedTime: 31.7 seconds RetCode: 0 Status: OK PackageFile: enrichViewNet_1.4.0.tgz PackageFileSize: 3.495 MiB