Package: enhancerHomologSearch Version: 1.14.0 Command: E:\biocbuild\bbs-3.21-bioc\R\bin\R.exe CMD INSTALL enhancerHomologSearch StartedAt: 2025-08-14 16:38:02 -0400 (Thu, 14 Aug 2025) EndedAt: 2025-08-14 16:47:28 -0400 (Thu, 14 Aug 2025) EllapsedTime: 566.9 seconds RetCode: 0 Status: OK