Package: eisaR Version: 1.18.0 Command: /home/biocbuild/R/R/bin/R CMD check --install=check:eisaR.install-out.txt --library=/home/biocbuild/R/R/site-library --no-vignettes --timings eisaR_1.18.0.tar.gz StartedAt: 2025-01-31 05:57:13 -0000 (Fri, 31 Jan 2025) EndedAt: 2025-01-31 06:01:48 -0000 (Fri, 31 Jan 2025) EllapsedTime: 275.2 seconds RetCode: 0 Status: OK CheckDir: eisaR.Rcheck Warnings: 0