Package: eisaR Version: 1.18.0 Command: /home/biocbuild/R/R/bin/R CMD build --keep-empty-dirs --no-resave-data eisaR StartedAt: 2025-01-30 23:21:27 -0000 (Thu, 30 Jan 2025) EndedAt: 2025-01-30 23:23:21 -0000 (Thu, 30 Jan 2025) EllapsedTime: 114.0 seconds RetCode: 0 Status: OK PackageFile: eisaR_1.18.0.tar.gz PackageFileSize: 1.598 MiB