Package: eisaR Version: 1.18.0 Command: F:\biocbuild\bbs-3.20-bioc\R\bin\R.exe CMD check --no-multiarch --install=check:eisaR.install-out.txt --library=F:\biocbuild\bbs-3.20-bioc\R\library --no-vignettes --timings eisaR_1.18.0.tar.gz StartedAt: 2025-01-31 01:42:43 -0500 (Fri, 31 Jan 2025) EndedAt: 2025-01-31 01:47:27 -0500 (Fri, 31 Jan 2025) EllapsedTime: 283.2 seconds RetCode: 0 Status: OK CheckDir: eisaR.Rcheck Warnings: 0