Package: eisaR Version: 1.18.0 Command: /home/biocbuild/bbs-3.20-bioc/R/bin/R CMD INSTALL eisaR StartedAt: 2025-01-30 15:11:25 -0500 (Thu, 30 Jan 2025) EndedAt: 2025-01-30 15:11:44 -0500 (Thu, 30 Jan 2025) EllapsedTime: 19.3 seconds RetCode: 0 Status: OK