Package: eisaR Version: 1.18.0 Command: /home/biocbuild/bbs-3.20-bioc/R/bin/R CMD check --install=check:eisaR.install-out.txt --library=/home/biocbuild/bbs-3.20-bioc/R/site-library --timings eisaR_1.18.0.tar.gz StartedAt: 2025-01-30 21:54:01 -0500 (Thu, 30 Jan 2025) EndedAt: 2025-01-30 21:58:57 -0500 (Thu, 30 Jan 2025) EllapsedTime: 295.3 seconds RetCode: 0 Status: OK CheckDir: eisaR.Rcheck Warnings: 0