Package: eisaR Version: 1.18.0 Command: /home/biocbuild/bbs-3.20-bioc/R/bin/R CMD build --keep-empty-dirs --no-resave-data --md5 eisaR StartedAt: 2025-02-03 17:17:45 -0500 (Mon, 03 Feb 2025) EndedAt: 2025-02-03 17:19:12 -0500 (Mon, 03 Feb 2025) EllapsedTime: 87.1 seconds RetCode: 0 Status: OK PackageFile: eisaR_1.18.0.tar.gz PackageFileSize: 1.911 MiB