Package: eisaR Version: 1.20.0 Command: /home/biocbuild/R/R/bin/R CMD check --install=check:eisaR.install-out.txt --library=/home/biocbuild/R/R/site-library --no-vignettes --timings eisaR_1.20.0.tar.gz StartedAt: 2025-05-06 08:15:51 -0000 (Tue, 06 May 2025) EndedAt: 2025-05-06 08:20:50 -0000 (Tue, 06 May 2025) EllapsedTime: 299.2 seconds RetCode: 0 Status: OK CheckDir: eisaR.Rcheck Warnings: 0